BEGIN:VCALENDAR
VERSION:2.0
PRODID:-//Jen Grisanti - ECPv6.15.17.1//NONSGML v1.0//EN
CALSCALE:GREGORIAN
METHOD:PUBLISH
X-WR-CALNAME:Jen Grisanti
X-ORIGINAL-URL:https://www.jengrisanti.com
X-WR-CALDESC:Events for Jen Grisanti
REFRESH-INTERVAL;VALUE=DURATION:PT1H
X-Robots-Tag:noindex
X-PUBLISHED-TTL:PT1H
BEGIN:VTIMEZONE
TZID:UTC
BEGIN:STANDARD
TZOFFSETFROM:+0000
TZOFFSETTO:+0000
TZNAME:UTC
DTSTART:20210101T000000
END:STANDARD
END:VTIMEZONE
BEGIN:VEVENT
DTSTART;TZID=UTC:20220926T080000
DTEND;TZID=UTC:20221001T170000
DTSTAMP:20260425T172640
CREATED:20211021T121242Z
LAST-MODIFIED:20220322T070154Z
UID:5533-1664179200-1664643600@www.jengrisanti.com
SUMMARY:Screenwriters Safari (9/26-10-/1)
DESCRIPTION:SCREENWRITERS SAFARI\nINSPIRED UNDER AFRICAN SKIES\n\nHave you got something really fabulous to look forward to? \n5 nights in luxury with Hollywood mentors on this Screenwriters Safari in South Africa ​ \nBreathe new life into your script \nBook your spot with one of the 4 exceptional mentors. \nOnly 16 spots available in total \n(4 per mentor). \nPlease email info@scriptoafrica.com ​ \nHave a safari vacation of a lifetime while you network and learn from some of the most connected film and screenwriting professionals in Hollywood. \nTake your screenwriting career to the next level\, and who knows where that next level may be! \n\n\n\n \n \n\n\n\n\n\n \n\n\n\n\nYOUR TYPICAL DAY\n\n \nBOOK YOUR SPOT\n\nPartners Welcome\n\n\n6.00am –   9.00am \nEarly morning safari (the best time to view Africa’s wildlife) \n​ \n9.00am –  10.00am \nA luxury breakfast that caters to all dietary requirements \n​ \n10.00am – 10.30am \nQ&A / knowledge sharing from your mentors \n​ \n10.30am  –  1.00pm \nOne-on-one consulting script consulting and feedback session with your chosen mentor \n​ \n1.00pm –    2.00pm \nLunch in the award-winning restaurant \n​ \n4.00pm –   4.30pm \nHigh Tea overlooking the bushveld \n​ \n5.00pm  –  7.30pm \nEvening safari game drive where you’ll witness the awakening wildlife amidst the dramatic African sunset \n​ \n7.30pm \nDinner in the restaurant or under the starry sky\, accompanied by uniquely African ‘song’ of lions\, hyenas and jackals \nhttps://jengrisanti.com/wp-content/uploads/2021/10/ScreenwritersSafarivideo_1_9bd2ab2a7d8a4427a4031a3fe38d2302.mp4\n\n \n\nVENUE\n\n\nSHEPHERD’S TREE GAME LODGE PILANESBERG\, SOUTH AFRICA\n\n 
URL:https://www.jengrisanti.com/event/screenwriters-safari-september-26-october-1-2022/
CATEGORIES:Home Feature
ATTACH;FMTTYPE=image/jpeg:https://www.jengrisanti.com/wp-content/uploads/2021/11/ScreenwritersSafari-e1640664271194.jpg
END:VEVENT
END:VCALENDAR