BEGIN:VCALENDAR
VERSION:2.0
PRODID:-//Jen Grisanti - ECPv6.15.17.1//NONSGML v1.0//EN
CALSCALE:GREGORIAN
METHOD:PUBLISH
X-ORIGINAL-URL:https://www.jengrisanti.com
X-WR-CALDESC:Events for Jen Grisanti
REFRESH-INTERVAL;VALUE=DURATION:PT1H
X-Robots-Tag:noindex
X-PUBLISHED-TTL:PT1H
BEGIN:VTIMEZONE
TZID:UTC
BEGIN:STANDARD
TZOFFSETFROM:+0000
TZOFFSETTO:+0000
TZNAME:UTC
DTSTART:20200101T000000
END:STANDARD
END:VTIMEZONE
BEGIN:VEVENT
DTSTART;TZID=UTC:20210925T000000
DTEND;TZID=UTC:20210925T000000
DTSTAMP:20260425T084658
CREATED:20211005T134403Z
LAST-MODIFIED:20211005T231359Z
UID:4692-1632528000-1632528000@www.jengrisanti.com
SUMMARY:SCREENWRITERS SAFARI – SEPTEMBER 15 – 20\, 2021
DESCRIPTION:INSPIRED UNDER AFRICAN SKIES\n\n\n\nHave you got something really fabulous to look forward to? \n​ \n5 nights in luxury with Hollywood mentors on this Screenwriters Safari in South Africa  \n​ \nBreathe new life into your script \nONLY 16 spots available.  \nChoose one of our 4 exceptional mentors. \n​ \nHave a safari vacation of a lifetime while you network and learn from some of the most connected film and screenwriting professionals in Hollywood. \nTake your screenwriting career to the next level\, and who knows where that next level may be! \n\n\n\n\n\n\n\n\n\n\n\n\n\n\n\n\n\n\n\n\n\n\n\n\n\n\n\n\n\n\n\n\nYOUR TYPICAL DAY\n\n\nBOOK YOUR SPOT\n\nPartners Welcome\n\n\n6.00am –   9.00am \nEarly morning safari (the best time to view Africa’s wildlife) \n​ \n9.00am –  10.00am \nA luxury breakfast that caters to all dietary requirements \n​ \n10.00am – 10.30am \nQ&A / knowledge sharing from your mentors \n​ \n10.30am  –  1.00pm \nOne-on-one consulting script consulting and feedback session with your chosen mentor \n​ \n1.00pm –    2.00pm \nLunch in the award-winning restaurant \n​ \n4.00pm –   4.30pm \nHigh Tea overlooking the bushveld \n​ \n4.30pm  –  7.30pm \nEvening safari game drive where you’ll witness the awakening wildlife amidst the dramatic African sunset \n​ \n7.30pm \nDinner in the restaurant or under the starry sky\, accompanied by uniquely African ‘song’ of lions\, hyenas and jackals \n\n\n\n\n\n\n\n\n\n\nVENUE\n\n\nSHEPHERD’S TREE GAME LODGE PILANESBERG\, SOUTH AFRICA\n\n\n\n\n\n\n\n\n\n\n\n\n\n\n\n\n\n\n\n\nVIEW GALLERY\n\n\n\n\n\n\n\n\n\n\n\n\n\n\n\n\n\n\n\n\n\n\n\n\n\nWEBSITE FOR SCREENWRITERS SAFARI
URL:https://www.jengrisanti.com/event/screenwriters-safari-september-15-20-2021/
END:VEVENT
END:VCALENDAR