BEGIN:VCALENDAR
VERSION:2.0
PRODID:-//Jen Grisanti - ECPv6.15.17.1//NONSGML v1.0//EN
CALSCALE:GREGORIAN
METHOD:PUBLISH
X-WR-CALNAME:Jen Grisanti
X-ORIGINAL-URL:https://www.jengrisanti.com
X-WR-CALDESC:Events for Jen Grisanti
REFRESH-INTERVAL;VALUE=DURATION:PT1H
X-Robots-Tag:noindex
X-PUBLISHED-TTL:PT1H
BEGIN:VTIMEZONE
TZID:UTC
BEGIN:STANDARD
TZOFFSETFROM:+0000
TZOFFSETTO:+0000
TZNAME:UTC
DTSTART:20190101T000000
END:STANDARD
END:VTIMEZONE
BEGIN:VEVENT
DTSTART;TZID=UTC:20200929T000000
DTEND;TZID=UTC:20200929T000000
DTSTAMP:20260424T170047
CREATED:20211005T134510Z
LAST-MODIFIED:20211005T134510Z
UID:4697-1601337600-1601337600@www.jengrisanti.com
SUMMARY:FICTIONALIZING YOUR TRUTH IN YOUR WRITING – ONLINE CLASS ON 9/26/20
DESCRIPTION:FICTIONALIZING YOUR TRUTH IN YOUR WRITING \nWhen you come from a place of emotional truth in your writing and add fiction to it in your story\, you connect with your audience. I will go through how to take inventory of your history and identify your universal life moments by looking at your dilemmas\, your failures\, and your successes. After taking the time to mine your creative well\, you will find your gold. \nFINDING YOUR VOICE \nThis presentation goes into TV and film. By understanding how to find and utilize your voice\, you will learn what it takes to set you apart from the masses. By defining what makes your story unique\, you will learn how to draw from this emotional truth leading you to your desired outcome. \nSCRIPT WRITING | THE FEATURE SCRIPT \nLearn some of the secrets to telling strong stories from the studio executive perspective. In this presentation\, I will go over the seven components that will make your feature script sell. \nIf you are interested in taking you writing to the next level you will NOT want to miss this. RSVP today! \n**This event is being supported in part by Arizona Commission on the Arts which receives support from the State of Arizona and the National Endowment for the Arts \n\n\n\nAbout Jen Grisanti: \nInternational speaker Jen Grisanti is an acclaimed Story/Career Consultant at Jen Grisanti Consultancy\, Inc. Grisanti is also a Writing Instructor for Writers on the Verge at NBC\, a former 12-year studio executive\, and author of Story Line: Finding Gold In Your Life Story\, TV Writing Tool Kit: How To Write a Script That Sells\, and\, Change Your Story\, Change Your Life. \nOver twenty years ago\, Grisanti started her career as an assistant to Aaron Spelling\, who served as her mentor for 12 years. She quickly climbed the ranks and eventually ran Current Programs at Spelling Television Inc.\, covering all of Spelling’s shows including Beverly Hills\, 90210\, Melrose Place and Charmed. In 2004\, Grisanti was Vice President of Current Programs at CBS/Paramount\, where she covered numerous shows\, including Medium\, Numbers\, NCIS\, 4400\, and Girlfriends. \nIn January 2008\, Grisanti launched Jen Grisanti Consultancy\, Inc.\, a highly successful consulting firm dedicated to helping talented writers break into the industry. Drawing on her years of experience as a studio executive where she gave daily notes to executive producers/showrunners\, Grisanti personally guides writers to shape their material\, hone their pitches\, and focus their careers. Since launching her consulting firm\, Grisanti worked with over 1000 writers specializing in television\, features\, and novels. Due to her guidance\, over one hundred of her clients have staffed as writers on television shows\, seventy-one have sold pilots\, and six of those pilots have gone to series. \n\n\n\n\n\nSIGN UP HERE – $39.00
URL:https://www.jengrisanti.com/event/fictionalizing-your-truth-in-your-writing-online-class-on-9-26-20/
END:VEVENT
END:VCALENDAR