BEGIN:VCALENDAR
VERSION:2.0
PRODID:-//Jen Grisanti - ECPv6.15.17.1//NONSGML v1.0//EN
CALSCALE:GREGORIAN
METHOD:PUBLISH
X-ORIGINAL-URL:https://www.jengrisanti.com
X-WR-CALDESC:Events for Jen Grisanti
REFRESH-INTERVAL;VALUE=DURATION:PT1H
X-Robots-Tag:noindex
X-PUBLISHED-TTL:PT1H
BEGIN:VTIMEZONE
TZID:UTC
BEGIN:STANDARD
TZOFFSETFROM:+0000
TZOFFSETTO:+0000
TZNAME:UTC
DTSTART:20190101T000000
END:STANDARD
END:VTIMEZONE
BEGIN:VEVENT
DTSTART;TZID=UTC:20200710T000000
DTEND;TZID=UTC:20200710T000000
DTSTAMP:20260424T141622
CREATED:20211005T134525Z
LAST-MODIFIED:20211005T134525Z
UID:4700-1594339200-1594339200@www.jengrisanti.com
SUMMARY:Rocaberti Writers’ Retreat In France – July 3 – July 8\, 2020
DESCRIPTION:Early July 2020\nJuly 3rd-8th\, 2020\nMarouatte Castle\,\nThe Dordogne\,\nFrance \nHave you dreamed of writing a screenplay and seeing it come to life on the silver screen? \nOr maybe you’ve published a book and are wondering about how to turn it into a film script? \nSeems impossible\, right? \nWell\, the answer\, is\, NO! Nothing is impossible\, and on this one-of-a-kind writers’ retreat\, at the beautiful 14th century Marouatte Castle in the Dordogne\, Southwestern France\, we’ll show you just how your words\, your vision—let’s face it\, your baby—can make it all the way to the big screen! \nPlease reserve my place\, and the mentor of my choice\, now \n\n \nMentors\n\n\n\n\nJen Grisanti\nInternational speaker Jen Grisanti is an acclaimed Story/Career Consultant at Jen Grisanti Consultancy Inc.\, Writing Instructor for Writers on the Verge at NBC\, former 12-year studio executive\, including VP of Current Programming at CBS/Paramount\, blogger for The Huffington Post and author of the books\, Story Line: Finding Gold In Your Life Story and TV Writing Tool Kit: How To Write a Script That Sells and her new book\, Change Your Story\, Change Your Life: A Path To Your Success. \nGrisanti started her career in 1992 as an assistant to Aaron Spelling\, who served as her mentor for 12 years\, and she quickly climbed the ranks and eventually ran Current Programs at Spelling Television Inc.\, covering all of Spelling’s shows including Beverly Hills\, 90210\, Melrose Place and Charmed. In 2004\, Grisanti was promoted to Vice President of Current Programs at CBS/Paramount where she covered numerous shows\, including Medium\, Numbers\, NCIS\, 4400 and Girlfriends. \nIn January 2008\, Grisanti launched Jen Grisanti Consultancy Inc.\, a highly successful consulting firm dedicated to helping talented writers break into the industry. Drawing on her experience as a studio executive where she gave daily notes to executive producers/showrunners\, Grisanti personally guides writers to shape their material\, hone their pitches and focus their careers. Since launching the consulting firm\, Grisanti has worked with over 800 writers specializing in television\, features and novels. Due to her expertise and mentorship\, seventy-five of her writers have staffed on television shows and forty have sold pilots\, five that that went to series. \nJen currently has 2 spots left for the early July 2020 retreat. \nReserve my spot with Jen \n\n\n\n\n\nJoan Lane\nJoan Lane is a film and theatre producer and has worked in arts management and production for over 30 years. Trained as a Speech and Language Therapist\, with a background as a music scholar\, she has also worked as a vocal consultant. \nHer company\, Wild Thyme Productions\, has toured six innovative productions of Shakespeare’s plays in the UK and Germany and mounted world premiere showcases and readings of new plays and musicals in London. She is a member of Musical Theatre Network UK\, concerned with the writing of new musicals\, and also of The British Shakespeare Association. \nPrimarily engaged as a Consultant by the BBC\, Joan’s skills were used for the recording\, filming and Royal Opera House performance of THE LITTLE PRINCE. She was a director for BBC Radio Two and BBC Television’s New Talent UK-wide search for the Voice of Musical Theatre\, involved with background music for the film THE ACTORS\, coordinated the participation of singing Angels for Stephen Fry’s directorial film debut\, BRIGHT YOUNG THINGS and worked on the BBC’s Promenade Concert/Opera\, THE WATER DIVINER’S TALE. \nAs well as touring with her own company\, Joan has worked on several plays at the Royal National Theatre and toured plays with ATG and Pleasance Theatre. She recommends scripts to Russian translator colleagues and two plays were produced in Russia recently. \nHer varied work in music\, theatre\, film and television exposed Joan to scripts and screenplays and she is known for having developed the film\, THE KING’S SPEECH\, directed by Tom Hooper\, starring Colin Firth\, Geoffrey Rush and Helena Bonham Carter\, and adapted from the stage play by its author David Seidler. \nMore recently\, she has developed a screenplay from a radio play and has been commissioned to write a screenplay based on a true story. Currently\, four TV series on which Joan has worked with first-time writers are under consideration and three films are expected to go into production in 2018. \n\n\n\n\n\nStan Zimmerman\nStan Zimmerman’s long career covers multiple mediums (TV\, film and theatre) and he’s won many LA directing awards\, including one from BroadwayWorld.com. In addition\, he’s been nominated for two WGA Awards for Best Comedy Episodic writing for his work on the classic TV series\, THE GOLDEN GIRLS and ROSEANNE. \nStan’s also written and produced on GILMORE GIRLS and co-created the Lifetime sitcom\, RITA ROCKS. He was Director/Writer/EP/Creator on the Emmy-nominated web series\, SECS & EXECS\, on Tellofilms. In film\, he wrote both BRADY BUNCH movies. \nHe has been busy lately writing\, directing and producing theatre in Los Angeles. Some of Stan’s critically-acclaimed productions include: the LatinX The Diary of Anne Frank\, Heartbreak Help\, Pledge\, Warm Cheese\, Entertaining Mr. Sloane\, BLINK & You Might Miss Me\, Spike Heels\, A Tuna Christmas and Gemini. He also directed two of the plays he wrote with Christian McLaughlin: Yes Virginia\, Knife to the Heart and Meet & Greet. \nStan has appeared on Broadway with Nureyev & the Joffrey Ballet at the Mark Hellinger Theatre and was the Host/Showrunner on Sean Hayes’ Bravo reality show\, SITUATION: COMEDY. Stan also teaches audition technique classes in LA and NYC. He has a BFA-Drama NYU/Circle-in-the-Square. \nStan currently has 2 spots left for the early July 2020 retreat. \nReserve my spot with Stan \n\n\n\n\n\n \nThe Retreat includes…\n\nSMALL GROUP MENTORING SESSIONS\nEXPERT TUITION\nALL MEALS AND DRINKS\nFIVE NIGHTS’ LODGING\nROUND-TRIP TRANSPORTATION BETWEEN THE AIRPORT/LOCAL TRAIN STATION AND THE CASTLE\nEXCLUSIVE ACCESS\nPROGRAM\nPlease reserve my place\, and the mentor my choice\, now
URL:https://www.jengrisanti.com/event/rocaberti-writers-retreat-in-france-july-3-july-8-2020/
END:VEVENT
BEGIN:VEVENT
DTSTART;TZID=UTC:20200716T000000
DTEND;TZID=UTC:20200716T000000
DTSTAMP:20260424T141622
CREATED:20211005T134524Z
LAST-MODIFIED:20211005T134524Z
UID:4699-1594857600-1594857600@www.jengrisanti.com
SUMMARY:Rocaberti Writers’ Retreat in France – July 10th – 15th\, 2020
DESCRIPTION:Late July 2020\nJuly 10th-15th\, 2020\nMarouatte Castle\,\nThe Dordogne\,\nFrance \nHave you dreamed of writing a screenplay and seeing it come to life on the silver screen? \nOr maybe you’ve published a book and are wondering about how to turn it into a film script? \nSeems impossible\, right? \nWell\, the answer\, is\, NO! Nothing is impossible\, and on this one-of-a-kind writers’ retreat\, at the beautiful 14th century Marouatte Castle in the Dordogne\, Southwestern France\, we’ll show you just how your words\, your vision—let’s face it\, your baby—can make it all the way to the big screen! \nPlease reserve my place\, and the mentor of my choice\, now \n\n \nMentors\n\n\n\n\nJen Grisanti\nInternational speaker Jen Grisanti is an acclaimed Story/Career Consultant at Jen Grisanti Consultancy Inc.\, Writing Instructor for Writers on the Verge at NBC\, former 12-year studio executive\, including VP of Current Programming at CBS/Paramount\, blogger for The Huffington Post and author of the books\, Story Line: Finding Gold In Your Life Story and TV Writing Tool Kit: How To Write a Script That Sells and her new book\, Change Your Story\, Change Your Life: A Path To Your Success. \nGrisanti started her career in 1992 as an assistant to Aaron Spelling\, who served as her mentor for 12 years\, and she quickly climbed the ranks and eventually ran Current Programs at Spelling Television Inc.\, covering all of Spelling’s shows including Beverly Hills\, 90210\, Melrose Place and Charmed. In 2004\, Grisanti was promoted to Vice President of Current Programs at CBS/Paramount where she covered numerous shows\, including Medium\, Numbers\, NCIS\, 4400 and Girlfriends. \nIn January 2008\, Grisanti launched Jen Grisanti Consultancy Inc.\, a highly successful consulting firm dedicated to helping talented writers break into the industry. Drawing on her experience as a studio executive where she gave daily notes to executive producers/showrunners\, Grisanti personally guides writers to shape their material\, hone their pitches and focus their careers. Since launching the consulting firm\, Grisanti has worked with over 800 writers specializing in television\, features and novels. Due to her expertise and mentorship\, seventy-five of her writers have staffed on television shows and forty have sold pilots\, five that that went to series. \nJen currently has 2 spots left for the late July 2020 retreat. \nReserve my spot with Jen \n\n\n\n\n\nRichard Botto\nRichard “RB” Botto is the Founder and CEO of Stage 32\, the official film education & networking platform of AFM and the Marche du Film at Cannes Film Festival. Stage32.com is the world’s largest online platform connecting and educating film\, TV & digital creatives and executives worldwide. Since 2011\, Stage 32 has emerged as an online community of over 500\,000 creatives with over 1\,000 hours of online education taught by over 500 industry executives. \nRB is also a working actor\, producer and screenwriter. As a producer\, his films have played at dozens of festivals including the Sundance award winning feature\, Another Happy Day\, written & directed by Sam Levinson (starring Kate Bosworth\, Demi Moore\, Ellen Barkin)\, the documentary Crutch\, the feature What Lies Ahead (starring Rumer Willis and Emma Dumon) releasing in 2019 and the upcoming Rain- Beau’s End (starring Ed Asner\, Sean Young and Kate Arrington). As a writer\, his latest screenplay\, The End Game\, is currently set up at Covert Media. As an actor\, his latest film On the Corner of Ego and Desire premiered at the 2018 Raindance Film Festvial. \nBotto is a best-selling author with his book Crowdsourcing For Filmmakers\, published by Routledge Press under the American Film Market Presents banner. The book can be found at the Routledge Press booth by AFM badge registration and on Amazon\, where it has over 50 5-star reviews. \nA sought-after speaker and mentor\, RB has been a keynote speaker and panelist at such festivals and conferences as Cannes\, AFM\, Tribeca\, Sundance\, Raindance\, SXSW\, Portugal FEST and Winston Baker. He has also taught at institutions such as Harvard and Columbia University on the subjects of filmmaking\, producing\, film finance\, screenwriting\, social media\, crowdfunding\, crowdsourcing\, entrepreneurship and business. \nRB currently has 3 spots left for the late July 2020 retreat. \nReserve my spot with RB \n\n\n\n\n\nStan Zimmerman\nStan Zimmerman’s long career covers multiple mediums (TV\, film and theatre) and he’s won many LA directing awards\, including one from BroadwayWorld.com. In addition\, he’s been nominated for two WGA Awards for Best Comedy Episodic writing for his work on the classic TV series\, THE GOLDEN GIRLS and ROSEANNE. \nStan’s also written and produced on GILMORE GIRLS and co-created the Lifetime sitcom\, RITA ROCKS. He was Director/Writer/EP/Creator on the Emmy-nominated web series\, SECS & EXECS\, on Tellofilms. In film\, he wrote both BRADY BUNCH movies. \nHe has been busy lately writing\, directing and producing theatre in Los Angeles. Some of Stan’s critically-acclaimed productions include: the LatinX The Diary of Anne Frank\, Heartbreak Help\, Pledge\, Warm Cheese\, Entertaining Mr. Sloane\, BLINK & You Might Miss Me\, Spike Heels\, A Tuna Christmas and Gemini. He also directed two of the plays he wrote with Christian McLaughlin: Yes Virginia\, Knife to the Heart and Meet & Greet. \nStan has appeared on Broadway with Nureyev & the Joffrey Ballet at the Mark Hellinger Theatre and was the Host/Showrunner on Sean Hayes’ Bravo reality show\, SITUATION: COMEDY. Stan also teaches audition technique classes in LA and NYC. He has a BFA-Drama NYU/Circle-in-the-Square. \n\n\n\n\n\n \nThe Retreat includes…\n\nSMALL GROUP MENTORING SESSIONS\nEXPERT TUITION\nALL MEALS AND DRINKS\nFIVE NIGHTS’ LODGING\nROUND-TRIP TRANSPORTATION BETWEEN THE AIRPORT/LOCAL TRAIN STATION AND THE CASTLE\nEXCLUSIVE ACCESS\nPROGRAM\nPlease reserve my place\, and the mentor my choice\, now
URL:https://www.jengrisanti.com/event/rocaberti-writers-retreat-in-france-july-10th-15th-2020/
END:VEVENT
END:VCALENDAR