BEGIN:VCALENDAR
VERSION:2.0
PRODID:-//Jen Grisanti - ECPv6.15.17.1//NONSGML v1.0//EN
CALSCALE:GREGORIAN
METHOD:PUBLISH
X-ORIGINAL-URL:https://www.jengrisanti.com
X-WR-CALDESC:Events for Jen Grisanti
REFRESH-INTERVAL;VALUE=DURATION:PT1H
X-Robots-Tag:noindex
X-PUBLISHED-TTL:PT1H
BEGIN:VTIMEZONE
TZID:UTC
BEGIN:STANDARD
TZOFFSETFROM:+0000
TZOFFSETTO:+0000
TZNAME:UTC
DTSTART:20190101T000000
END:STANDARD
END:VTIMEZONE
BEGIN:VEVENT
DTSTART;TZID=UTC:20200630T000000
DTEND;TZID=UTC:20200630T000000
DTSTAMP:20260424T130105
CREATED:20211005T134524Z
LAST-MODIFIED:20211005T134524Z
UID:4698-1593475200-1593475200@www.jengrisanti.com
SUMMARY:QUESTIONS TO ASK YOUR CENTRAL CHARACTER AS IT APPLIES TO ACTS
DESCRIPTION:
URL:https://www.jengrisanti.com/event/questions-to-ask-your-central-character-as-it-applies-to-acts/
END:VEVENT
END:VCALENDAR