BEGIN:VCALENDAR
VERSION:2.0
PRODID:-//Jen Grisanti - ECPv6.15.17.1//NONSGML v1.0//EN
CALSCALE:GREGORIAN
METHOD:PUBLISH
X-WR-CALNAME:Jen Grisanti
X-ORIGINAL-URL:https://www.jengrisanti.com
X-WR-CALDESC:Events for Jen Grisanti
REFRESH-INTERVAL;VALUE=DURATION:PT1H
X-Robots-Tag:noindex
X-PUBLISHED-TTL:PT1H
BEGIN:VTIMEZONE
TZID:UTC
BEGIN:STANDARD
TZOFFSETFROM:+0000
TZOFFSETTO:+0000
TZNAME:UTC
DTSTART:20180101T000000
END:STANDARD
END:VTIMEZONE
BEGIN:VEVENT
DTSTART;TZID=UTC:20190630T000000
DTEND;TZID=UTC:20190630T000000
DTSTAMP:20260421T210348
CREATED:20211005T140141Z
LAST-MODIFIED:20211005T140141Z
UID:4705-1561852800-1561852800@www.jengrisanti.com
SUMMARY:FINAL DRAFT PODCAST INTERVIEW – REFOCUSING YOUR ENERGY FOR NEXT SEASON’S SCREENWRITING CONTESTS AND FELLOWSHIPS
DESCRIPTION:  \n\n\n\n\n\n\n\n\n\n \n\n\n\n\nProducts\nVolume Licensing\nLearn\nSupport\n\nCart \n\n\nCONTACT US\n\n\n\n\n\n\n\n\n\n\n\n\n\n\n\n\n\n\n\n\n\nFri\, 14 December 2018\nWrite On with Jen Grisanti: Refocusing Your Energy for Next Season’s Screenwriting Contests and Fellowships\n\n \nScreenwriting consultant and former studio executive Jen Grisanti discusses crafting stories that resonate\, finding your voice as a writer and building a network of professional relationships. \nWith experience as a story consultant\, TV staffer\, and mentor in the CBS Diversity program\, Jen Grisanti is dedicated to helping writers make it as working film & TV professionals through the Jen Grisanti Consultancy. \nLearn more about her new 10-week STORYWISE TV Writing Tele-seminar and training series HERE. \nDon’t forget to subscribe to the Write On Podcast on iTunes! \n \n  \n\nDirect download: GrisantiIntroOutro_1.m4a\nCategory:screenwriting — posted at: 10:30am PST
URL:https://www.jengrisanti.com/event/final-draft-podcast-interview-refocusing-your-energy-for-next-seasons-screenwriting-contests-and-fellowships/
END:VEVENT
END:VCALENDAR