BEGIN:VCALENDAR
VERSION:2.0
PRODID:-//Jen Grisanti - ECPv6.15.17.1//NONSGML v1.0//EN
CALSCALE:GREGORIAN
METHOD:PUBLISH
X-WR-CALNAME:Jen Grisanti
X-ORIGINAL-URL:https://www.jengrisanti.com
X-WR-CALDESC:Events for Jen Grisanti
REFRESH-INTERVAL;VALUE=DURATION:PT1H
X-Robots-Tag:noindex
X-PUBLISHED-TTL:PT1H
BEGIN:VTIMEZONE
TZID:UTC
BEGIN:STANDARD
TZOFFSETFROM:+0000
TZOFFSETTO:+0000
TZNAME:UTC
DTSTART:20180101T000000
END:STANDARD
END:VTIMEZONE
BEGIN:VEVENT
DTSTART;TZID=UTC:20190306T000000
DTEND;TZID=UTC:20190306T000000
DTSTAMP:20260421T175049
CREATED:20211005T140141Z
LAST-MODIFIED:20211005T140141Z
UID:4706-1551830400-1551830400@www.jengrisanti.com
SUMMARY:2019 Storywise 10-Week TV Teleseminar – SPECIAL OFFERS
DESCRIPTION:STORYWISE 10-week TV WRITING TELESEMINAR AND TRAINING SERIES\nClasses begin on Tuesday March 5th at 7:00 pm ONLINE and go through May 14\, 2019 \nWant to learn all of the things that I teach in Writers on the Verge at NBC? Check out my Storywise 10-Week Teleseminar that includes an eight-module story instruction training series called\, “How To Write A TV Pilot That Sells: Moving Forward.” \nThis is a 10-week program designed to help you write a high-quality TV pilot AND spec script. In 10-weeks\, I will teach you how to learn to write at a level that will help lead your script to a sale\, get staffed on a show\, place in a writing competition or get into one of the various writing programs. This course is everything that I teach in Writers on the Verge and more. \nLast year we had over 100 writer participants from all over the world. You will not only learn all of the story tools that you need to succeed\, but you will also gain the opportunity to be in a private community of writers. This community is a very valuable resource. You all will have a chance to learn from one another via networking\, to exchange scripts and possibly starting your own writer groups. \nI’ve seen the success from this course first-hand. Many of the writers who have taken this 10-week course have gone on to sell pilots\, get staffed on TV shows and get into several of the prestigious writing programs. Fifty-Two of my writers have sold pilots… and 6 of them have gone to series. \nThe story instruction is pre-recorded. You will receive this before the course begins in March. \nIn March\, each call is approximately 2 – 2 ½ hours in length. On each call\, we will go over the notes for the 4 writers participating at Level #3. You will have an opportunity to read their scripts and make your own notes each week. You will also get to share your notes with those writers directly. This is what we do in Writers on the Verge. It is a way to prepare you for being in the Writers’ Room. Then\, I will give five people the opportunity to sign up each week will get an opportunity to pitch to a guest speaker. We all learn from hearing others pitch. This part of the program was designed to help you learn from the pitching style of others as well as give you the opportunity to pitch yourself. It’s an invaluable tool. Every level will have an opportunity to sign up for this. \n  \n  \nI currently have a SPECIAL OFFER going for the month of January for levels 1\, 2\, and 4. \nHere is the LINK for the 4 FREE Training Videos. \nLEVEL 1 \nAt Level 1\, you get to participate in all 10 classes. You will receive a recording of the classes. You will have an opportunity to sign up to pitch to my weekly guest speakers. You get to be part of a private Facebook community. You will also get to turn in a 1-2 page pitch document on your TV spec or TV pilot script. You will receive written feedback. You have up to a year after the course is finished to turn this in. \nRegular rate – $397.00 \nSPECIAL OFFER – $297.00 (LIMITED TIME OFFER) \n \n  \nRate for writers who have taken this before – $227.00 \n  \n \n  \nLEVEL 2 \nAt Level 2\, you get to participate in all 10 classes. You will receive a recording of the classes. You will have an opportunity to sign up to pitch to my weekly guest speakers. You get to be part of a private Facebook community. This level also includes a one-on-one consult for your TV spec and/or TV Pilot script. \nLevel 2 w/ TV Pilot Consult \nRegular Rate – $1\,050.00 \nSpecial Rate – $947.00 \n \nFor Alumni of my Storywise Teleseminar – $927.00 \n \n  \nLEVEL 3 \nAt Level 3\, you will receive feedback every week on your TV spec or TV pilot script. This includes written and verbal feedback. You will receive a recording of the classes. You will have an opportunity to sign up to pitch to my weekly guest speakers. You get to be part of a private Facebook community. \nFor the first time\, I am going to offer you the option of not writing a TV spec. You can either write one TV pilot during the 10 weeks or\, you can write two TV pilots during the ten weeks. There will also be an option to do it for five weeks instead of ten weeks. This will be offered to the finalists. \nThere are only FOUR SLOTS for this level: two for drama and two for comedy. This could change depending on the strength of the submissions. If you are interested in applying\, you will need to submit ten pages of a script. The submission deadline is 1/31/19. I will select four submissions out of all of the submissions and announce these slots in February. The rate for Level 3 is $3\,000.00. \nACCEPTING SUBMISSIONS FOR LEVEL 3 STARTING JANUARY 1 – 31\, 2019. I will announce in mid-February. Please email your 10 page submissions to me at jen@jengrisanti.com \n  \nLEVEL 4 \nAt Level 4\, you will receive written/verbal notes back every week on your scripts. This includes 5 Coaching Consults either alongside the teleseminar or as you prefer. You will receive a recording of the classes. You will have an opportunity to sign up to pitch two times to my weekly guest speakers. You get to be part of a private Facebook community. \nThere are only 4 slots available at this level. \nRegular Rate – $3\,647.00 \nSpecial Rate – $3\,347.00 \n \n  \nASSIGNMENTS \nLevel #3 writing assignments will be due the Saturday before each class. Everyone at each level will receive a copy of the assignments turned in by the Level #3 writers so that they may follow along as well as provide notes directly to the Level#3 writer. \n  \nLevels #1 and #2\, you will do the assignments on your own. No direct feedback is provided for Level 1. Level 2 gets feedback during the pilot consult. I do highly recommend that you use the Facebook community of writers to exchange scripts so that you can receive weekly feedback. \n  \nGUEST SPEAKERS \nMICHAEL NARDUCCI (The Crossing\, The Originals\, Vampire Diaries…)\nGRETA HEINEMANN (NCIS: New Orleans)\nPAUL RUEHL (sold 15 pilots)\nDAN O’SHANNON (Superior Donuts\, Odd Couple\, Modern Family…)\nMONICA BREEN (Midnight Texas\, Marvel’s Agents of S.H.I.E.L.D.\, Revolution…)\nTED HUMPHREY (Wisdom of the Crowd\, Incorporated\, The Good Wife…)\nWES NICKERSON (House of Lies\, Entourage)\nMATT NIX (The Gifted\, Burn Notice\, APB…)\nHENRY ALONSO MYERS (The Magicians\, Covert Affairs\, The Carrie Diaries…)\nMARK GOFFMAN (Bull\, Limitless\, Sleepy Hollow…)\nWENDY WEST (Proven Innocence\, Marvel’s Inhuman\, Taken)\nNIKKI TOSCANO (24:LEGACY\, State of Affairs\, Shades of Blue)
URL:https://www.jengrisanti.com/event/2019-storywise-10-week-tv-teleseminar-special-offers/
END:VEVENT
END:VCALENDAR