BEGIN:VCALENDAR
VERSION:2.0
PRODID:-//Jen Grisanti - ECPv6.15.17.1//NONSGML v1.0//EN
CALSCALE:GREGORIAN
METHOD:PUBLISH
X-ORIGINAL-URL:https://www.jengrisanti.com
X-WR-CALDESC:Events for Jen Grisanti
REFRESH-INTERVAL;VALUE=DURATION:PT1H
X-Robots-Tag:noindex
X-PUBLISHED-TTL:PT1H
BEGIN:VTIMEZONE
TZID:UTC
BEGIN:STANDARD
TZOFFSETFROM:+0000
TZOFFSETTO:+0000
TZNAME:UTC
DTSTART:20170101T000000
END:STANDARD
END:VTIMEZONE
BEGIN:VEVENT
DTSTART;TZID=UTC:20180515T000000
DTEND;TZID=UTC:20180515T000000
DTSTAMP:20260421T115254
CREATED:20211005T140210Z
LAST-MODIFIED:20211005T140210Z
UID:4709-1526342400-1526342400@www.jengrisanti.com
SUMMARY:Storywise 10-Week TV Spec & Pilot Teleseminar 2018 – Begins Tuesday\, March 6th 7:00 pm PST ONLINE
DESCRIPTION:Classes begin on Tuesday March 6th at 7:00 pm ONLINE and go through May 15\, 2018\nThis is a 10-week program designed to help you write a high quality TV pilot AND spec script. In 10-weeks\, I will teach you how to learn to write at a level that will help lead your script to a sale\, get staffed on a show\, place in a writing competition or get into one of the various writing programs. This course is everything that I teach in Writers on the Verge and more. \nLast year we had over 100 writer participants from all over the world. You will not only learn all of the story tools that you need to succeed\, you will gain the opportunity to be in a private community of writers. This community is a very valuable resource. You all will have the opportunity to learn from one another via networking\, exchanging scripts and possibly starting your own writer groups. \nI’ve seen the success from this course first-hand. Many of the writers who have taken this 10-week course have gone on to sell pilots\, get staffed on TV shows and get into several of the prestigious writing programs. Fifty-Two of my writers have sold pilots… and 6 of them have gone to series. \nEach class will consist of a half-hour of instruction (you will receive these videos before each class to watch at your leisure.) Each call is approximately 2 – 2 ½ hours in length. On each call\, we will go over the notes for the 4 writers participating at Level #3 and I will choose one writer from Level 2 or Level 4 each week to participate. You will have an opportunity to read their scripts and make your own notes each week. You will also get to share your notes with those writers directly. This is what we do in Writers on the Verge. It is a way to prepare you for being in the Writers’ Room. Then\, five people that sign up each week will get an opportunity to pitch to a guest speaker. We all learn from hearing others pitch. This part of the program was designed to help you learn from the pitching style of others as well as give you the opportunity to pitch yourself. It’s an invaluable tool. Every level will have an opportunity to sign up for this. \nLEVEL 1 \nAt Level 1\, you get to participate in all 10 classes. You will receive a recording of the classes. You will have an opportunity to sign up to pitch to my weekly guest speakers. You get to be part of a private Facebook community. You will also get to turn in a 1-2 page pitch document on your TV spec and TV pilot script. You will receive written feedback. You have up to a year after the course is finished to turn this in. \nRegular rate – $375.00 \nSPECIAL OFFER – $225.00 (LIMITED TIME OFFER) \n \n  \nRate for writers who have taken this before – $225.00 \n  \n \n  \nLEVEL 2 \nAt Level 2\, you get to participate in all 10 classes. You will receive a recording of the classes. You will have an opportunity to sign up to pitch to my weekly guest speakers. You get to be part of a private Facebook community. This level also includes a one-on-one consult for your TV spec and/or TV Pilot script. \nLevel 2 w/ TV Pilot Consult \nRegular Rate – $1\,050.00 \n \nFor Alumni of my Storywise Teleseminar – $900.00 \n \n  \nLevel 2 w/ TV Spec Consult \nRegular Rate – $875.00 \n \n  \nFor Alumni of my Storywise Teleseminar – $775.00 \n \n  \nLevel 2 w/ TV Pilot and Spec Consult \nRegular Rate – $1\,600.00 \n \n  \nFor Alumni of my Storywise Teleseminar – $1\,275.00 \n \n  \nLEVEL 3 \nAt Level 3\, you will receive feedback every week on your TV spec and/or TV pilot script. This includes written and verbal feedback. You will receive a recording of the classes. You will have an opportunity to sign up to pitch to my weekly guest speakers. You get to be part of a private Facebook community. \n  \nFor the first time\, I am going to offer you the option of not writing a TV spec. You can either write one TV pilot during the 10 weeks or you can write 2 TV pilots during the 10 weeks. \n  \nThere are only 4 SLOTS for this level: two for drama and two for comedy. If you are interested in applying\, you will need to submit 10 pages of a script. The submission deadline is 1/31/18. I will select 4 submissions out of everyone that submits and announce these slots in February. The rate for Level 3 is $3\,000.00. \n  \nThe DEADLINE FOR SUBMISSIONS is January 31\, 2018 at 3:00 p.m. PST. \n  \nLEVEL 4 \nAt Level 4\, you will receive written/verbal notes back every week on your scripts. This includes an in person or online meeting every week either alongside the teleseminar or as you prefer. You will receive a recording of the classes. You will have an opportunity to sign up to pitch two times to my weekly guest speakers. You get to be part of a private Facebook community. \nThere are only 4 slots available at this level. \n \n  \n  \n  \nASSIGNMENTS \nThe Level #3 writing assignments will be due the Saturday before each class. Everyone at each level will receive a copy of the assignments turned in by the Level #3 writers so that they may follow along as well as provide notes directly to the Level#3 writer. \n  \nLevels #1 and #2\, you will do the assignments on your own. No direct feedback is provided; however\, this is where you can use the Facebook community of writers to exchange scripts weekly and get feedback. \n  \n  \nSCHEDULE \nWeek 1 – Tuesday March 6\, 2018 \nWe will go over the notes for the concepts of the spec scripts for Level #3. \nGuest Speaker – Dan O’Shannon\, Executive Producer (SUPERIOR DONUTS\, THE ODD COUPLE\, MODERN FAMILY…) \n  \nWeek 2\, Tuesday March 13\, 2018 \nWe will go over the notes for the outline of the spec scripts for Level #3. \nGuest Speaker – Matt Nix\, Executive Producer  (THE GIFTED\, BEN 10\, APB\, COMPLICATIONS\, BURN NOTICE…) \n  \nWeek 3\, Tuesday March 20\, 2018 \nWe will go over the notes for the first draft of the spec scripts for Level #3. \nGuest Speakers – Brian C. Singleton & Jim Brandon\, Co-Executive Producers (DR. KEN\, ANGEL FROM HELL\, BIG TIME IN HOLLYWOOD FL.\, THE MCCARTHYS) \nWEEK 4\, Tuesday\, March 27\, 2018 \nWe will go over the notes for the second draft of the spec scripts for Level #3. \nGuest Speaker – Michael Narducci\, Executive Producer (THE ORIGINALS\, VAMPIRE DIARIES\, MEDIUM…) \n  \n*EASTER BREAK THE WEEK OF 4/1/18 \n  \nWEEK 5\, Tuesday\, April 10\, 2018 \nWe will go over the notes for the third draft of the spec scripts for Level #3. \nGuest Speaker – Mike Scully\, Co-Executive Producer (THE SIMPSONS\, THE CARMICHAEL SHOW\, PARKS & RECREATION..) \n  \nWEEK 6\, Tuesday\, April 17\, 2018 \nWe will go over the notes for the concepts for the pilot scripts for Level #3. \nGuest Speaker – Liz Benjamin\, Co-Executive Producer (UNREAL\, BLOOD & OIL\, THE BLACKLIST\, BONES…) \n  \nWEEK 7\, Tuesday April 24\, 2018 \nWe will go over the notes for the outlines for the pilot scripts for Level #3. \nGuest Speakers – TJ Brady and Rasheed Newson\, Co-Excecutive Producers (ANIMAL KINGDOM\, SHOOTER\, NARCOS…) \n  \nWEEK 8\, Tuesday May 1\, 2018 \nWe will go over the notes for the first draft or first half of the first draft of the TV pilot scripts for Level #3. \nGuest Speaker – Justin W. Lo\, Supervising Producer (THE BLOOD TYPE\, NO TOMORROW\, MISTRESSES\, PARENTHOOD…) \n  \nWEEK 9\, Tuesday May 8\, 2018 \nWe will go over the notes for the second draft or full-first draft of the TV pilot scripts for Level #3. \nGuest Speaker – Wendy Calhoun\, Co- EP (EMPIRE\, NASHVILLE\, JUSTIFIED\, REVENGE…) \n  \nWEEK 10\, Tuesday May 15\, 2018 \nWe will go over the notes for the third draft of the TV pilot scripts for Level #3. \nGuest Speaker – Jackie De Crinis\, President Jackie De Crinis Productions\, former senior level Development executive at USA
URL:https://www.jengrisanti.com/event/storywise-10-week-tv-spec-pilot-teleseminar-2018-begins-tuesday-march-6th-700-pm-pst-online/
END:VEVENT
BEGIN:VEVENT
DTSTART;TZID=UTC:20180527T000000
DTEND;TZID=UTC:20180527T000000
DTSTAMP:20260421T115254
CREATED:20211005T140155Z
LAST-MODIFIED:20211005T140155Z
UID:4707-1527379200-1527379200@www.jengrisanti.com
SUMMARY:HAWAII TV & FILM WRITING SEMINAR – MEMORIAL DAY WEEKEND 5/26/18
DESCRIPTION:  \nTHE WAIKOLOA COMMUNITY DEVELOPMENT CORPORATION AND THE FAIRMONT ORCHID HOTEL CO-PRESENT THEIR VISITING ARTIST FILM WORKSHOP \nWhat: Screenplay Writing for Television and Film \nWhere: The Fairmont Orchid Hotel\, Kohala Coast\, Big Island of Hawaii \nWhen: Saturday\, May 26 from 8:30 am to 4:30 pm \nWho: Jennifer Grisanti is one of the leading consultants\, mentors\, coaches\, and instructors in the field of screenplay writing and development for television and film. She has a story system that has led 52 of her clients to sell their pilots. Six of them went to series. Jen was a studio executive for 12 years at Spelling Television Inc. and CBS/Paramount. She staffed over 15 primetime shows in her career. Aaron Spelling was her mentor. She is also the writing instructor for Writers on the Verge at NBC\, a blogger for The Huffington Post\, the author of three books—her latest is Change Your Story: Change Your Life: A Path to Your Success–\, and an international speaker who has participated in writing conferences\, retreats\, seminars\, film festivals\, and writing expos around the world.In this day long workshop\, Jen will share the techniques\, insights\, and dynamics of her Story System\, an approach that has led so many writers to success in the television and film arenas. Discussions will center on the elements of strong and compelling story structure and development\, writing a script that sells\, writing a TV pilot script or screenplay that can’t be ignored\, writing memorable characters and character dynamics\, adding truth to your fiction\, mastering the set up of your story through structure\, setting up a season one arc\, and Jen will offer plenty of time for career advice\, insights into how and what Hollywood is looking for these days and how it works\, and general Q&A from participants. \nWhy: This workshop is a must for those looking to develop their craft and skill in professional areas of screenplay writing for\ntelevision and film\, those looking to “polish” their skills in these areas\, or for those looking to better understand the craft of writing for film and television and how these skill sets relate to the overall production process. \nHow: Email John Mason at johnmasonkona@gmail.com for more information\, questions\, or to register. Give him a call at 808-464-4379. Check out also the web site of the Hawaii Island Film Office at www.hawaiiislandfilm.com. There is a small registration fee which will include light refreshments. \n 
URL:https://www.jengrisanti.com/event/hawaii-tv-film-writing-seminar-memorial-day-weekend-5-26-18/
END:VEVENT
END:VCALENDAR