BEGIN:VCALENDAR
VERSION:2.0
PRODID:-//Jen Grisanti - ECPv6.15.17.1//NONSGML v1.0//EN
CALSCALE:GREGORIAN
METHOD:PUBLISH
X-WR-CALNAME:Jen Grisanti
X-ORIGINAL-URL:https://www.jengrisanti.com
X-WR-CALDESC:Events for Jen Grisanti
REFRESH-INTERVAL;VALUE=DURATION:PT1H
X-Robots-Tag:noindex
X-PUBLISHED-TTL:PT1H
BEGIN:VTIMEZONE
TZID:UTC
BEGIN:STANDARD
TZOFFSETFROM:+0000
TZOFFSETTO:+0000
TZNAME:UTC
DTSTART:20160101T000000
END:STANDARD
END:VTIMEZONE
BEGIN:VEVENT
DTSTART;TZID=UTC:20170915T000000
DTEND;TZID=UTC:20170915T000000
DTSTAMP:20260421T072018
CREATED:20211005T140211Z
LAST-MODIFIED:20211005T140211Z
UID:4711-1505433600-1505433600@www.jengrisanti.com
SUMMARY:Webinar with The Writers Store on September 14 at 1:00 p.m. – Staying True to The Core Concept of Your Series
DESCRIPTION:Staying True to the Core Concept of Your Series\n\n\n\n\n\n  \n\nAt a Glance\n\nDuring this webinar\, you will learn tools to set up your concept and your season arcs.\nDiscover how creating strong external and internal questions will bring your audience back.\nJen will illustrate the significance of staying true to your core concept.\n\n\n\n\n\n\n\nTweet –> \n\n\n\nPlease note: Each registration comes with access to the recorded version of the program and the materials for one year. You do not have to attend the live event to get a recording of the presentation. \nABOUT THE WEBINAR \nHave you struggled with figuring out how to build the concept of your show through creating a strong season arc? In this course\, Jen Grisanti will go over how to set up a strong season arc that will best illustrate the concept of your show. Then\, she will explain how staying true to this core concept connects you with your audience. \nThe core concept often has an external and an internal component. The external gives you a sense of the world. The internal has to do with the dynamics of the people that infiltrate that world. \nWhen you create strong questions that have to do with the external and the internal world\, you create anticipation. When the audience feels the anticipation\, you give them a reason to return. \nBy understanding why your character wants what they want for the episode and the season\, you bring us into the emotional component of your story and give us a glimpse into the intention of your concept. \nJen will cover old shows and new shows including – HOMELAND\, THE GOOD WIFE\, HAPPY VALLEY\, SILICON VALLEY and TRANSPARENT. \nWHAT YOU’LL LEARN:  \n\nHow to have your season arc best reflect what your concept is.\nHow to create powerful questions.\nHow to set up the WHY the character wants WHAT they want.\nHow to stay true to the core concept that you set up.\nHow to build compelling season arcs.\n\nWHO SHOULD ATTEND? \n\nWriters who are writing TV pilots.\nWriters who want to understand more about how to take their story to a deeper place.\nWriters who want to know how to better connect with their audience on an emotional level.\nWriters who have great ideas but don’t know how to execute them.\nWriters that want to sell their pilots.\n\nWHAT EQUIPMENT DO I NEED? \nAll you need is a computer or iOS device\, and an internet connection. You’ll be able to view the presentation and listen to the audio over computer speakers; however\, you’ll enjoy much better audio quality if you use a telephone. See below for complete system requirements. \nTo test your connection before the live webinar\, visit this web page. \nBONUS: With purchase of this webinar\, you will receive $79.99 off of a yearly subscription to the Screenwriting Tutorials website\, which has specialized tutorials from experts that explore screenwriting topics covered nowhere else on the web! \n\nProduct Details\n\n Return policy: This item is not eligible for return.\n\n\nMeet the Author: Jen Grisanti\n\n\n\n\nInternational speaker Jen Grisanti is an acclaimed Story/Career Consultant at Jen Grisanti Consultancy Inc.\, Writing Instructor for Writers on the Verge at NBC\, a former 12-year studio executive\, including VP of Current Programming at CBS/Paramount\, blogger for The Huffington Post and author of the books\, Story Line: Finding Gold In Your Life Story and TV Writing Tool Kit: How To Write a Script That Sells and her new book\, Change Your Story\, Change Your Life: A Path To Your Success. \nGrisanti started her career in 1992 as an assistant to Aaron Spelling\, who served as her mentor for 12 years\, and she quickly climbed the ranks and eventually ra…
URL:https://www.jengrisanti.com/event/webinar-with-the-writers-store-on-september-14-at-100-p-m-staying-true-to-the-core-concept-of-your-series/
END:VEVENT
BEGIN:VEVENT
DTSTART;TZID=UTC:20170922T000000
DTEND;TZID=UTC:20170922T000000
DTSTAMP:20260421T072018
CREATED:20211005T140211Z
LAST-MODIFIED:20211005T140211Z
UID:4710-1506038400-1506038400@www.jengrisanti.com
SUMMARY:Webinar on 9/21 w/ EIACE – Power Up Webinar – Comedy\, TV writing\, Representation\, Writing Action Lines & Cinematic Storytelling
DESCRIPTION:Home\nEvents\nMembers\nSpeakers Bureau\nAbout Us\nSponsors\nContact\n\n\n\n\n\n\n\n\n\n\n\n\n\neiACE Power-Up Webinar – Sept. 21 – 4PM PT\n\nHome | Events | eiACE Power-Up Webinar – Sept. 21 – 4PM PT\n\n\n\n\n\n\n\n\n\n\n\n\n\nThe third installment in the Power-Up Webinar Series features Dan Calvisi\, Jen Grisanti\, \nLee Jessup and David Misch. These industry-leading educators will provide instruction \nthrough 20-minute segments\, live at the Relativity School Studio in LA. \n\n\n\n\n\n\n\nSign Up Now\n\n\n\n\n\n\n\n\nDan Calvisi – Write Great Description Paragraphs – Learn From The Masters!\nA lot is written about the art of dialogue\, but what about the equal challenge \nof writing great description/action? Citing examples from modern masters like \nChristopher Nolan\, Vince Gilligan\, Shonda Rhimes and Quentin Tarantino\, \nDan Calvisi will explore the mechanics\, formatting and execution of this crucial \nelement of the screenplay. Dan will also lead the class in writing the introduction of a famous movie \ncharacter\, to be compared to the actual text from the original screenplay. \n\n\n\n\n\n\n\n\n\nJen Grisanti – Writing A TV Pilot That Sells: Setting Up The Series And Season One \nThrough The Arc Of The Wound\nIn this talk\, Jen Grisanti will go over how to set up the series and season one arc by \ncreating a strong arc of the wound for the central character. It is when the personal \ndilemma links to the professional pursuit and the pilot arc is one step toward healing \nthe wound that we root for the outcome and emotionally connect to the story. Jen \nwill discuss the season arcs for FLEABAG (Amazon)\, RIVER (Netflix) and HAPPY VALLEY (Netflix). \n\n\n\n\n\n\n\n\n\nLee Jessup – Representation Rundown\nThis will cover everything you ever wanted to know about agents and managers\, \nincluding how to get the right representation\, what to expect from your agent vs. \nwhat your can expect from your manager\, how much you should pay them\, what \nthey will expect from you\, and what you can do to motivate them. \n\n\n\n\n\n\n\n\n\nDavid Misch – How “How Comedy Works” Works\nMy seminar “How Comedy Works” makes a unique guarantee in the world of \nscreenwriting seminars: it gives you absolutely no help with screenwriting. HCW\, \nas we in the office like to call it (Note: There is no office)\, is about comedy as an \nart form; what it is\, what it means and how it works. Why take time with that instead \nof figuring out why your 2nd act sucks?\, I hear no one asking. Because learning how comedy works will \nhelp you do it better. Anyway\, that’s my story and I’m sticking to it. This talk will show how looking at \ncomedy not screenwriting can help your screenwriting; how contemporary comedy goes back to ancient \nGreece (and yes\, I’m looking at you\, fart and vomit jokes); and the precision\, skill and ingenuity that \ncomedy requires. Most of all\, this talk explains why everyone who says examination kills comedy is \nnot only wrong but should be killed\, and shows how comedy principles translate into actual laughter. \nSo\, y’know\, forget that stuff about no help.
URL:https://www.jengrisanti.com/event/webinar-on-9-21-w-eiace-power-up-webinar-comedy-tv-writing-representation-writing-action-lines-cinematic-storytelling/
END:VEVENT
END:VCALENDAR