BEGIN:VCALENDAR
VERSION:2.0
PRODID:-//Jen Grisanti - ECPv6.15.17.1//NONSGML v1.0//EN
CALSCALE:GREGORIAN
METHOD:PUBLISH
X-WR-CALNAME:Jen Grisanti
X-ORIGINAL-URL:https://www.jengrisanti.com
X-WR-CALDESC:Events for Jen Grisanti
REFRESH-INTERVAL;VALUE=DURATION:PT1H
X-Robots-Tag:noindex
X-PUBLISHED-TTL:PT1H
BEGIN:VTIMEZONE
TZID:UTC
BEGIN:STANDARD
TZOFFSETFROM:+0000
TZOFFSETTO:+0000
TZNAME:UTC
DTSTART:20160101T000000
END:STANDARD
END:VTIMEZONE
BEGIN:VEVENT
DTSTART;TZID=UTC:20170804T000000
DTEND;TZID=UTC:20170804T000000
DTSTAMP:20260421T055410
CREATED:20211005T140225Z
LAST-MODIFIED:20211005T140225Z
UID:4714-1501804800-1501804800@www.jengrisanti.com
SUMMARY:THURSDAY AUGUST 3\, 2017 – FUTURE OF STORY PANEL w/ MWP & Stage 32
DESCRIPTION:Stage 32 & Michael Wiese Productions Present: The Future of Story – Los Angeles\n\n\n  \n\n\n\n\n\n\n\n\n\nOn Thursday\, August 3rd in LA\, Stage 32 and Michael Wiese Productions are thrilled to bring you an intimate and educational evening with some of the industry’s top writers\, coaches and teachers working today. \nJoin Jen Grisanti\, Steve Kaplan\, Christopher Vogler\, Alvaro Rodriguez and Richard Botto for a timely panel on the craft and business of screenwriting in 2017 . Our esteemed panelists will be covering a wide range of topics including the current state of the industry\, what’s hot in television and features\, where most writers struggle with their craft and much more. We’ll also be taking questions from the audience and may even critique a pitch or two! \nBut we did say this would be an intimate evening as well. So\, after the panel\, join us for an extended cocktail hour and networking event sponsored by Tito’s Handmade Vodka\, the official vodka of Stage 32. Meet your fellow scribes and get up and close with not only the panelists\, but a dozen more Michael Wiese authors! \n  \nStage 32 & Michael Wiese Productions Present: The Future of Story – Los Angeles \nDate: Thursday\, August 3\, 2017 \nTime: 7:00pm – 10:00pm (doors open at 6:30pm) \nLocation: WeWork La Brea Terrace\, 925 N La Brea Ave\, 4th Floor\, Los Angeles\, CA 90038 (map) \nParking: Parking available on 2 levels of the WeWork parking garage for $15\, and FREE parking is available at the Target and Sprouts parking structure down the block\n\nDrinks: provided by Tito’s Handmade Vodka\, the official vodka of Stage 32\n\nLight Snacks: provided by WeWork\n\nMichael Wiese Productions books will be sold at a 40% discount exclusively at this event. Buy a book and get it signed by your favorite MWP Author.\n\nRSVP: here\n\nSpace is limited\, so please reserve your place early before all spots sell out! \n  \n \nReserve your spot now! \n\nAbout The Evening\nPanel Discussion: Screenwriting & the Marketplace: 2017\n \n7:00pm – 8:30pm \nOur esteemed group of panelists will be discussing the state of the screenwriting industry today\, writing trends they are seeing and offer tips & advice for screenwriters to navigate the business. We will be discussing the craft\, including trends we are seeing in film and TV scripts right now including successful case studies. We will also be discussing the barriers of entry for both first time screenwriters as well as those established writers trying to navigate today’s ever shifting landscape. We’ll discuss the bending and meshing of genre and how Netflix and Amazon have not only influenced the marketplace\, but the craft as well. You will receive tips on how to navigate the new paradigm of studio\, cable and streaming and what that means for your career. Best of all\, you’ll be able to ask questions during our extended Q&A session. \nThis is sure to be the most informative panel you’ll attend this year. Please remember to book early! \n  \nNetworking Mixer / Meet the Authors! \n8:30pm – 10:00pm \nAfter the panel\, we’ll let our hair down a bit with a relaxed networking mixer. You’ll not only be able to mingle with your fellow scribes and make new connections and friends\, but you’ll be able to meet and speak with the panelists and more than two dozen additional Michael Wiese authors. This is an incredible opportunity to mingle\, learn and build meaningful relationships. Oh\, and the entire hour and a half is sponsored by Tito’s Handmade Vodka\, the official vodka of Stage 32! \nOther MWP Authors in Attendance\n25 additional MWP authors with expertise in Scriptwriting\, TV\, Film\, and Production will be on hand to network and meet with you. You will be able to meet and exchange business cards with top professionals in the business.\n\n\nReserve Your Spot Now!\n  \n\nLike this blog post? Please share it on social media (Facebook\, Twitter\, LinkedIn\, email etc) by using social media buttons at the top of the blog. Or post to your personal blog and anywhere else you feel appropriate. Thank you. \nAs always\, we welcome thoughts and remarks on ANY of the content above in the Comments section below…
URL:https://www.jengrisanti.com/event/thursday-august-3-2017-future-of-story-panel-w-mwp-stage-32/
END:VEVENT
BEGIN:VEVENT
DTSTART;TZID=UTC:20170828T000000
DTEND;TZID=UTC:20170828T000000
DTSTAMP:20260421T055410
CREATED:20211005T140225Z
LAST-MODIFIED:20211005T140225Z
UID:4713-1503878400-1503878400@www.jengrisanti.com
SUMMARY:THE SCRIPT LAB SCREENWRITING SUMMIT – AUGUST 26-27\, 2017
DESCRIPTION:*|MC_PREVIEW_TEXT|* \n  \n\n\n\n\n\n\n\n\n\n\n\n\n\n\n\n\n\n\n  \n \n \n\n\n\n\n\n\n\n\n\n\n\n\n\n\n\n\n\n\n\n2 Days\, 30 Speakers\, Free Online\nThe Script Lab is launching its first ever Screenwriting Virtual Summit – a FREE weekend of lectures and interviews with Oscar-winning filmmakers and Emmy-winning TV writers! And best of all\, it’s FREE to register for two days of access to this amazing content. \n  \nPlus\, we’re excited to highlight Jen Grisanti\, with an in-depth interview available to all registrants!\n\n\n\n\n\n\n\n\n\n\n\n\n\n\nRegister Free\n\n\n\n\n\n\n\n\n\n\n\n\n\n\n\n\n\n\n\n\n\n\n\n\n\n\n\n\n\n\nSpeakers include…\n\n\n\n\n\n\n\n\n\n\n\n\n\n\n\n\n\n\n\n\n\n\n\n\n\n\n  \nScott Neustadter is an acclaimed screenwriter and producer of (500) Days of Summer\, The Fault In Our Stars\, The Spectacular Now\, Paper Towns\, and X-Men: The New Mutants.\n\n\n\n\n\n\n\n\n\n\n\n\n\n\n\n\n\n\n\n\n\n\n\n\n\n\n\n\n\nLiterary manager and producer Jewerl Ross is the founder and owner of Silent R Management. He has worked at APA\, ICM\, Marathon Management and Paradigm. Some of his clients include Barry Jenkins\, Matt Aldrich\, David H. Steinberg\, and Brad Buecker.\n\n\n\n\n\n\n\n\n\n\n\n\n\n\n\n\n\n\n\n\n\n\n\n\n\n\n\n\n\n  \nCathryn Humphris is a producer and WGA Award-winning writer known for her work on Mad Men\, Elementary\, NCIS: New Orleans\, Under The Dome\, and Supernatural.\n\n\n\n\n\n\n\n\n\n\n\n\n\n\n\n\n\n\n\n\n\n\n\n\n\n\n\n\n\nWriting team Amanda Silver & Rick Jaffa have been responsible for some of the most successful reinvigorations of iconic franchises. Their credits include Jurassic World\, Dawn of the Planet of the Apes\, Rise of the Planet of the Apes\, and Disney’s live action Mulan.\n\n\n\n\n\n\n\n\n\n\n\n\n\n\n\n\n\n\nCheck Out All 30 Speakers\n\n\n\n\n\n\n\n\n\n\n\n\n\n\n\n\n\n\n\n\n\n\n\n\n\n\n\n\n\n\nThanks to our official sponsor:\n\n\n\n\n\n\n\n\n\n\n\n\n\n\n\n  \n \n \n\n\n\n\n\n\n\n\n\n\n\n\n\n\n\n\n\n\n\n\n\n\n\n\n\n\n\n\n\n\nCheck out our non-profit partners:\n\n\n\n\n\n\n\n\n\n\n\n\n\n\n\n  \n \n \n\n\n\n\n\n\n  \n \n \n\n\n\n\n\n\n\n\n\n\n  \n \n \n\n\n\n\n\n\n  \n \n \n\n\n\n\n\n\n\n\n\n\n\n\n\n\n\n\n\n\n\n\n\n\n\n\n\n\n\n\n\nRegistration is FREE! Join us for this incredible event – all from the comfort of your living room.  All you need is a computer and internet connection – and a curiosity to learn from some of Hollywood’s leading producers\, executives\, managers and award-winning screenwriters!\n\n\n\n\n\n\n\n\n\n\n\n\n\n\n\n\n\n\n\n\n\n\n\n\n\n\n\n\n\n\n\n\n\n\n\n\n\n\n\n\n\n\n\n\n\n\n\n\n\n\n\n\n\n\n\n\n\n\n\n\n\n\n\n\n\n\n\n\n\n\n\n\n\n\n\n\n\n\n\n\n\n\n\n\n\n\n\n\n\n\n\n\n\n\n\n\n\n\n\n\n\n\n\n\n\n\n\n\n\n\n\n\n\n\n\n\n\n\n\n\n\n\n\n\n\n\n\n\n\n\n\n\n\n\n\n\n\n\n\n\n\n\n\n  \n\n 
URL:https://www.jengrisanti.com/event/the-script-lab-screenwriting-summit-august-26-27-2017/
END:VEVENT
END:VCALENDAR